Package: scran Version: 1.35.0 Command: rm -rf scran.buildbin-libdir && mkdir scran.buildbin-libdir && /Users/biocbuild/BBS/utils/build-universal.sh scran_1.35.0.tar.gz /Library/Frameworks/R.framework/Resources/bin/R scran.buildbin-libdir StartedAt: 2025-02-09 22:30:06 -0500 (Sun, 09 Feb 2025) EndedAt: 2025-02-09 22:30:32 -0500 (Sun, 09 Feb 2025) EllapsedTime: 26.5 seconds RetCode: 0 Status: OK PackageFile: scran_1.35.0.tgz PackageFileSize: 2.325 MiB