Package: scran Version: 1.35.0 Command: /Library/Frameworks/R.framework/Resources/bin/R CMD INSTALL scran StartedAt: 2025-02-09 15:24:45 -0500 (Sun, 09 Feb 2025) EndedAt: 2025-02-09 15:25:09 -0500 (Sun, 09 Feb 2025) EllapsedTime: 24.3 seconds RetCode: 0 Status: OK