Package: scran Version: 1.35.0 Command: /Library/Frameworks/R.framework/Resources/bin/R CMD build --keep-empty-dirs --no-resave-data scran StartedAt: 2025-02-09 18:22:21 -0500 (Sun, 09 Feb 2025) EndedAt: 2025-02-09 18:26:05 -0500 (Sun, 09 Feb 2025) EllapsedTime: 224.3 seconds RetCode: 0 Status: OK PackageFile: scran_1.35.0.tar.gz PackageFileSize: 1.852 MiB