Package: scran Version: 1.35.0 Command: /Library/Frameworks/R.framework/Resources/bin/R CMD check --install=check:scran.install-out.txt --library=/Library/Frameworks/R.framework/Resources/library --no-vignettes --timings scran_1.35.0.tar.gz StartedAt: 2025-02-09 23:28:59 -0500 (Sun, 09 Feb 2025) EndedAt: 2025-02-09 23:42:03 -0500 (Sun, 09 Feb 2025) EllapsedTime: 784.2 seconds RetCode: 0 Status: WARNINGS CheckDir: scran.Rcheck Warnings: 1