Package: scran Version: 1.35.0 Command: /Library/Frameworks/R.framework/Resources/bin/R CMD INSTALL scran StartedAt: 2025-02-09 15:39:31 -0500 (Sun, 09 Feb 2025) EndedAt: 2025-02-09 15:41:02 -0500 (Sun, 09 Feb 2025) EllapsedTime: 90.5 seconds RetCode: 0 Status: OK