Package: scran Version: 1.35.0 Command: /home/biocbuild/bbs-3.21-bioc/R/bin/R CMD build --keep-empty-dirs --no-resave-data scran StartedAt: 2025-02-09 19:10:10 -0500 (Sun, 09 Feb 2025) EndedAt: 2025-02-09 19:13:32 -0500 (Sun, 09 Feb 2025) EllapsedTime: 202.1 seconds RetCode: 0 Status: OK PackageFile: scran_1.35.0.tar.gz PackageFileSize: 1.758 MiB