Package: scran Version: 1.35.0 Command: /home/biocbuild/bbs-3.21-bioc/R/bin/R CMD check --install=check:scran.install-out.txt --library=/home/biocbuild/bbs-3.21-bioc/R/site-library --timings scran_1.35.0.tar.gz StartedAt: 2025-02-10 02:25:46 -0500 (Mon, 10 Feb 2025) EndedAt: 2025-02-10 02:39:29 -0500 (Mon, 10 Feb 2025) EllapsedTime: 822.1 seconds RetCode: 0 Status: WARNINGS CheckDir: scran.Rcheck Warnings: 1