Package: scran Version: 1.35.0 Command: /home/biocbuild/bbs-3.21-bioc/R/bin/R CMD INSTALL scran StartedAt: 2025-02-09 15:51:16 -0500 (Sun, 09 Feb 2025) EndedAt: 2025-02-09 15:52:34 -0500 (Sun, 09 Feb 2025) EllapsedTime: 77.7 seconds RetCode: 0 Status: OK