Package: scran Version: 1.35.0 Command: E:\biocbuild\bbs-3.21-bioc\R\bin\R.exe CMD INSTALL scran StartedAt: 2025-02-04 16:43:58 -0500 (Tue, 04 Feb 2025) EndedAt: 2025-02-04 16:46:09 -0500 (Tue, 04 Feb 2025) EllapsedTime: 131.0 seconds RetCode: 0 Status: OK