Package: scrapper Version: 1.1.12 Command: /Library/Frameworks/R.framework/Resources/bin/R CMD check --install=check:scrapper.install-out.txt --library=/Library/Frameworks/R.framework/Resources/library --no-vignettes --timings scrapper_1.1.12.tar.gz StartedAt: 2025-02-03 21:51:04 -0500 (Mon, 03 Feb 2025) EndedAt: 2025-02-03 21:52:51 -0500 (Mon, 03 Feb 2025) EllapsedTime: 107.3 seconds RetCode: 0 Status: OK CheckDir: scrapper.Rcheck Warnings: 0