Package: scrapper Version: 1.1.12 Command: /Library/Frameworks/R.framework/Resources/bin/R CMD INSTALL scrapper StartedAt: 2025-02-03 15:39:44 -0500 (Mon, 03 Feb 2025) EndedAt: 2025-02-03 15:41:14 -0500 (Mon, 03 Feb 2025) EllapsedTime: 89.7 seconds RetCode: 0 Status: OK