Package: scrapper Version: 1.1.12 Command: /home/biocbuild/R/R/bin/R CMD check --install=check:scrapper.install-out.txt --library=/home/biocbuild/R/R/site-library --no-vignettes --timings scrapper_1.1.12.tar.gz StartedAt: 2025-01-28 15:05:44 -0000 (Tue, 28 Jan 2025) EndedAt: 2025-01-28 15:12:28 -0000 (Tue, 28 Jan 2025) EllapsedTime: 403.4 seconds RetCode: 0 Status: WARNINGS CheckDir: scrapper.Rcheck Warnings: 1