Package: scrapper Version: 1.1.12 Command: /Library/Frameworks/R.framework/Resources/bin/R CMD build --keep-empty-dirs --no-resave-data scrapper StartedAt: 2025-02-09 18:22:24 -0500 (Sun, 09 Feb 2025) EndedAt: 2025-02-09 18:30:24 -0500 (Sun, 09 Feb 2025) EllapsedTime: 480.2 seconds RetCode: 0 Status: OK PackageFile: scrapper_1.1.12.tar.gz PackageFileSize: 676.6 KiB