Package: scrapper Version: 1.1.12 Command: /Library/Frameworks/R.framework/Resources/bin/R CMD check --install=check:scrapper.install-out.txt --library=/Library/Frameworks/R.framework/Resources/library --no-vignettes --timings scrapper_1.1.12.tar.gz StartedAt: 2025-02-09 23:29:00 -0500 (Sun, 09 Feb 2025) EndedAt: 2025-02-09 23:34:24 -0500 (Sun, 09 Feb 2025) EllapsedTime: 323.7 seconds RetCode: 0 Status: OK CheckDir: scrapper.Rcheck Warnings: 0