Package: scrapper Version: 1.1.12 Command: /home/biocbuild/bbs-3.21-bioc/R/bin/R CMD check --install=check:scrapper.install-out.txt --library=/home/biocbuild/bbs-3.21-bioc/R/site-library --timings scrapper_1.1.12.tar.gz StartedAt: 2025-02-10 02:26:10 -0500 (Mon, 10 Feb 2025) EndedAt: 2025-02-10 02:33:25 -0500 (Mon, 10 Feb 2025) EllapsedTime: 434.4 seconds RetCode: 0 Status: OK CheckDir: scrapper.Rcheck Warnings: 0