Package: scrapper Version: 1.1.12 Command: rm -rf scrapper.buildbin-libdir && mkdir scrapper.buildbin-libdir && E:\biocbuild\bbs-3.21-bioc\R\bin\R.exe CMD INSTALL --build --library=scrapper.buildbin-libdir scrapper_1.1.12.tar.gz StartedAt: 2025-02-10 08:40:19 -0500 (Mon, 10 Feb 2025) EndedAt: 2025-02-10 08:46:11 -0500 (Mon, 10 Feb 2025) EllapsedTime: 352.0 seconds RetCode: 0 Status: OK PackageFile: scrapper_1.1.12.zip PackageFileSize: 1.553 MiB