Package: scrapper Version: 1.1.12 Command: chmod a+r scrapper -R && E:\biocbuild\bbs-3.21-bioc\R\bin\R.exe CMD build --keep-empty-dirs --no-resave-data scrapper StartedAt: 2025-02-09 21:31:07 -0500 (Sun, 09 Feb 2025) EndedAt: 2025-02-09 21:41:09 -0500 (Sun, 09 Feb 2025) EllapsedTime: 602.3 seconds RetCode: 0 Status: OK PackageFile: scrapper_1.1.12.tar.gz PackageFileSize: 380.1 KiB