Package: screenCounter Version: 1.7.1 Command: /home/biocbuild/R/R/bin/R CMD build --keep-empty-dirs --no-resave-data screenCounter StartedAt: 2025-01-29 02:10:07 -0000 (Wed, 29 Jan 2025) EndedAt: 2025-01-29 02:12:44 -0000 (Wed, 29 Jan 2025) EllapsedTime: 157.1 seconds RetCode: 0 Status: OK PackageFile: screenCounter_1.7.1.tar.gz PackageFileSize: 318.6 KiB