Package: screenCounter Version: 1.7.1 Command: /home/biocbuild/bbs-3.21-bioc/R/bin/R CMD INSTALL screenCounter StartedAt: 2025-02-09 15:18:04 -0500 (Sun, 09 Feb 2025) EndedAt: 2025-02-09 15:19:34 -0500 (Sun, 09 Feb 2025) EllapsedTime: 89.1 seconds RetCode: 0 Status: OK