Package: scuttle Version: 1.17.0 Command: rm -rf scuttle.buildbin-libdir && mkdir scuttle.buildbin-libdir && /Users/biocbuild/BBS/utils/build-universal.sh scuttle_1.17.0.tar.gz /Library/Frameworks/R.framework/Resources/bin/R scuttle.buildbin-libdir StartedAt: 2025-02-09 22:30:22 -0500 (Sun, 09 Feb 2025) EndedAt: 2025-02-09 22:30:46 -0500 (Sun, 09 Feb 2025) EllapsedTime: 24.4 seconds RetCode: 0 Status: OK PackageFile: scuttle_1.17.0.tgz PackageFileSize: 1.28 MiB