Package: scuttle Version: 1.17.0 Command: /Library/Frameworks/R.framework/Resources/bin/R CMD build --keep-empty-dirs --no-resave-data scuttle StartedAt: 2025-02-09 17:34:50 -0500 (Sun, 09 Feb 2025) EndedAt: 2025-02-09 17:35:58 -0500 (Sun, 09 Feb 2025) EllapsedTime: 67.8 seconds RetCode: 0 Status: OK PackageFile: scuttle_1.17.0.tar.gz PackageFileSize: 1006 KiB