Package: scuttle Version: 1.17.0 Command: /home/biocbuild/R/R/bin/R CMD check --install=check:scuttle.install-out.txt --library=/home/biocbuild/R/R/site-library --no-vignettes --timings scuttle_1.17.0.tar.gz StartedAt: 2025-01-28 15:10:58 -0000 (Tue, 28 Jan 2025) EndedAt: 2025-01-28 15:50:58 -0000 (Tue, 28 Jan 2025) EllapsedTime: 2400.8 seconds RetCode: None Status: TIMEOUT CheckDir: scuttle.Rcheck Warnings: NA