Package: scuttle Version: 1.17.0 Command: rm -rf scuttle.buildbin-libdir && mkdir scuttle.buildbin-libdir && /Users/biocbuild/BBS/utils/build-universal.sh scuttle_1.17.0.tar.gz /Library/Frameworks/R.framework/Resources/bin/R scuttle.buildbin-libdir StartedAt: 2025-02-06 00:52:07 -0500 (Thu, 06 Feb 2025) EndedAt: 2025-02-06 00:53:36 -0500 (Thu, 06 Feb 2025) EllapsedTime: 89.1 seconds RetCode: 0 Status: OK PackageFile: scuttle_1.17.0.tgz PackageFileSize: 1.285 MiB