Package: scuttle Version: 1.17.0 Command: /Library/Frameworks/R.framework/Resources/bin/R CMD build --keep-empty-dirs --no-resave-data scuttle StartedAt: 2025-02-03 18:20:30 -0500 (Mon, 03 Feb 2025) EndedAt: 2025-02-03 18:23:09 -0500 (Mon, 03 Feb 2025) EllapsedTime: 158.8 seconds RetCode: 0 Status: OK PackageFile: scuttle_1.17.0.tar.gz PackageFileSize: 1006 KiB