Package: scuttle Version: 1.17.0 Command: /Library/Frameworks/R.framework/Resources/bin/R CMD check --install=check:scuttle.install-out.txt --library=/Library/Frameworks/R.framework/Resources/library --no-vignettes --timings scuttle_1.17.0.tar.gz StartedAt: 2025-02-03 23:14:05 -0500 (Mon, 03 Feb 2025) EndedAt: 2025-02-03 23:20:47 -0500 (Mon, 03 Feb 2025) EllapsedTime: 402.6 seconds RetCode: 0 Status: OK CheckDir: scuttle.Rcheck Warnings: 0