Package: scuttle Version: 1.17.0 Command: /Library/Frameworks/R.framework/Resources/bin/R CMD INSTALL scuttle StartedAt: 2025-02-09 15:14:44 -0500 (Sun, 09 Feb 2025) EndedAt: 2025-02-09 15:16:07 -0500 (Sun, 09 Feb 2025) EllapsedTime: 82.5 seconds RetCode: 0 Status: OK