Package: scuttle Version: 1.17.0 Command: /home/biocbuild/bbs-3.21-bioc/R/bin/R CMD INSTALL scuttle StartedAt: 2025-02-09 15:20:45 -0500 (Sun, 09 Feb 2025) EndedAt: 2025-02-09 15:21:55 -0500 (Sun, 09 Feb 2025) EllapsedTime: 70.1 seconds RetCode: 0 Status: OK