Package: scuttle Version: 1.17.0 Command: E:\biocbuild\bbs-3.21-bioc\R\bin\R.exe CMD INSTALL scuttle StartedAt: 2025-02-09 16:21:59 -0500 (Sun, 09 Feb 2025) EndedAt: 2025-02-09 16:23:33 -0500 (Sun, 09 Feb 2025) EllapsedTime: 94.3 seconds RetCode: 0 Status: OK