Package: scviR Version: 1.7.0 Maintainer: Vincent Carey MaintainerEmail: stvjc at channing.harvard.edu git_url: https://git.bioconductor.org/packages/scviR git_branch: devel git_last_commit: 97c87b8 git_last_commit_date: 2024-10-29 11:18:41 -0500 (Tue, 29 Oct 2024)