Package: scviR Version: 1.7.0 Command: /Library/Frameworks/R.framework/Resources/bin/R CMD build --keep-empty-dirs --no-resave-data scviR StartedAt: 2025-02-03 18:11:14 -0500 (Mon, 03 Feb 2025) EndedAt: 2025-02-03 18:12:03 -0500 (Mon, 03 Feb 2025) EllapsedTime: 49.6 seconds RetCode: 0 Status: OK PackageFile: scviR_1.7.0.tar.gz PackageFileSize: 3.731 MiB