Package: scviR Version: 1.7.0 Command: /Library/Frameworks/R.framework/Resources/bin/R CMD INSTALL scviR StartedAt: 2025-02-05 15:25:52 -0500 (Wed, 05 Feb 2025) EndedAt: 2025-02-05 15:26:04 -0500 (Wed, 05 Feb 2025) EllapsedTime: 12.2 seconds RetCode: 0 Status: OK