Package: scviR Version: 1.7.0 Command: /Library/Frameworks/R.framework/Resources/bin/R CMD build --keep-empty-dirs --no-resave-data scviR StartedAt: 2025-02-09 18:24:36 -0500 (Sun, 09 Feb 2025) EndedAt: 2025-02-09 18:28:05 -0500 (Sun, 09 Feb 2025) EllapsedTime: 208.8 seconds RetCode: 1 Status: ERROR PackageFile: None PackageFileSize: NA