Package: seahtrue Version: 1.1.0 Command: rm -rf seahtrue.buildbin-libdir && mkdir seahtrue.buildbin-libdir && /Users/biocbuild/BBS/utils/build-universal.sh seahtrue_1.1.0.tar.gz /Library/Frameworks/R.framework/Resources/bin/R seahtrue.buildbin-libdir StartedAt: 2025-02-10 01:15:50 -0500 (Mon, 10 Feb 2025) EndedAt: 2025-02-10 01:16:03 -0500 (Mon, 10 Feb 2025) EllapsedTime: 12.8 seconds RetCode: 0 Status: OK PackageFile: seahtrue_1.1.0.tgz PackageFileSize: 3.39 MiB