Package: seahtrue Version: 1.1.0 Command: E:\biocbuild\bbs-3.21-bioc\R\bin\R.exe CMD check --no-multiarch --install=check:seahtrue.install-out.txt --library=E:\biocbuild\bbs-3.21-bioc\R\library --no-vignettes --timings seahtrue_1.1.0.tar.gz StartedAt: 2025-02-10 05:18:13 -0500 (Mon, 10 Feb 2025) EndedAt: 2025-02-10 05:24:45 -0500 (Mon, 10 Feb 2025) EllapsedTime: 391.6 seconds RetCode: 0 Status: OK CheckDir: seahtrue.Rcheck Warnings: 0