Package: sechm Version: 1.15.0 Command: /Library/Frameworks/R.framework/Resources/bin/R CMD build --keep-empty-dirs --no-resave-data sechm StartedAt: 2025-02-09 17:35:05 -0500 (Sun, 09 Feb 2025) EndedAt: 2025-02-09 17:35:34 -0500 (Sun, 09 Feb 2025) EllapsedTime: 29.3 seconds RetCode: 0 Status: OK PackageFile: sechm_1.15.0.tar.gz PackageFileSize: 1.051 MiB