Package: sechm Version: 1.15.0 Command: rm -rf sechm.buildbin-libdir && mkdir sechm.buildbin-libdir && /Users/biocbuild/BBS/utils/build-universal.sh sechm_1.15.0.tar.gz /Library/Frameworks/R.framework/Resources/bin/R sechm.buildbin-libdir StartedAt: 2025-02-10 01:15:50 -0500 (Mon, 10 Feb 2025) EndedAt: 2025-02-10 01:16:27 -0500 (Mon, 10 Feb 2025) EllapsedTime: 36.9 seconds RetCode: 0 Status: OK PackageFile: sechm_1.15.0.tgz PackageFileSize: 1.125 MiB