Package: sechm Version: 1.15.0 Command: /home/biocbuild/bbs-3.21-bioc/R/bin/R CMD build --keep-empty-dirs --no-resave-data sechm StartedAt: 2025-02-12 19:09:31 -0500 (Wed, 12 Feb 2025) EndedAt: 2025-02-12 19:10:41 -0500 (Wed, 12 Feb 2025) EllapsedTime: 70.1 seconds RetCode: 0 Status: OK PackageFile: sechm_1.15.0.tar.gz PackageFileSize: 1.048 MiB