Package: sechm Version: 1.15.0 Command: /home/biocbuild/bbs-3.21-bioc/R/bin/R CMD check --install=check:sechm.install-out.txt --library=/home/biocbuild/bbs-3.21-bioc/R/site-library --timings sechm_1.15.0.tar.gz StartedAt: 2025-02-10 02:31:44 -0500 (Mon, 10 Feb 2025) EndedAt: 2025-02-10 02:35:21 -0500 (Mon, 10 Feb 2025) EllapsedTime: 217.3 seconds RetCode: 0 Status: OK CheckDir: sechm.Rcheck Warnings: 0