Package: sechm Version: 1.15.0 Command: rm -rf sechm.buildbin-libdir && mkdir sechm.buildbin-libdir && E:\biocbuild\bbs-3.21-bioc\R\bin\R.exe CMD INSTALL --build --library=sechm.buildbin-libdir sechm_1.15.0.tar.gz StartedAt: 2025-02-10 08:41:06 -0500 (Mon, 10 Feb 2025) EndedAt: 2025-02-10 08:41:36 -0500 (Mon, 10 Feb 2025) EllapsedTime: 30.3 seconds RetCode: 0 Status: OK PackageFile: sechm_1.15.0.zip PackageFileSize: 647.1 KiB