Package: segmenter Version: 1.13.0 Command: /Library/Frameworks/R.framework/Resources/bin/R CMD build --keep-empty-dirs --no-resave-data segmenter StartedAt: 2025-02-12 17:35:28 -0500 (Wed, 12 Feb 2025) EndedAt: 2025-02-12 17:38:25 -0500 (Wed, 12 Feb 2025) EllapsedTime: 177.0 seconds RetCode: 0 Status: OK PackageFile: segmenter_1.13.0.tar.gz PackageFileSize: 3.995 MiB