Package: segmenter Version: 1.13.0 Command: /Library/Frameworks/R.framework/Resources/bin/R CMD check --install=check:segmenter.install-out.txt --library=/Library/Frameworks/R.framework/Resources/library --no-vignettes --timings segmenter_1.13.0.tar.gz StartedAt: 2025-02-09 21:18:10 -0500 (Sun, 09 Feb 2025) EndedAt: 2025-02-09 21:21:12 -0500 (Sun, 09 Feb 2025) EllapsedTime: 182.2 seconds RetCode: 0 Status: OK CheckDir: segmenter.Rcheck Warnings: 0