Package: segmenter Version: 1.13.0 Command: /Library/Frameworks/R.framework/Resources/bin/R CMD INSTALL segmenter StartedAt: 2025-02-09 15:20:41 -0500 (Sun, 09 Feb 2025) EndedAt: 2025-02-09 15:20:58 -0500 (Sun, 09 Feb 2025) EllapsedTime: 17.4 seconds RetCode: 0 Status: OK