Package: segmenter Version: 1.13.0 Command: /home/biocbuild/bbs-3.21-bioc/R/bin/R CMD INSTALL segmenter StartedAt: 2025-02-12 15:58:43 -0500 (Wed, 12 Feb 2025) EndedAt: 2025-02-12 15:59:26 -0500 (Wed, 12 Feb 2025) EllapsedTime: 43.4 seconds RetCode: 0 Status: OK