Package: segmenter Version: 1.13.0 Command: rm -rf segmenter.buildbin-libdir && mkdir segmenter.buildbin-libdir && E:\biocbuild\bbs-3.21-bioc\R\bin\R.exe CMD INSTALL --build --library=segmenter.buildbin-libdir segmenter_1.13.0.tar.gz StartedAt: 2025-02-10 08:41:07 -0500 (Mon, 10 Feb 2025) EndedAt: 2025-02-10 08:42:23 -0500 (Mon, 10 Feb 2025) EllapsedTime: 75.8 seconds RetCode: 0 Status: OK PackageFile: segmenter_1.13.0.zip PackageFileSize: 4.267 MiB