Package: segmenter Version: 1.13.0 Command: chmod a+r segmenter -R && E:\biocbuild\bbs-3.21-bioc\R\bin\R.exe CMD build --keep-empty-dirs --no-resave-data segmenter StartedAt: 2025-02-12 21:41:36 -0500 (Wed, 12 Feb 2025) EndedAt: 2025-02-12 21:49:08 -0500 (Wed, 12 Feb 2025) EllapsedTime: 452.0 seconds RetCode: 0 Status: OK PackageFile: segmenter_1.13.0.tar.gz PackageFileSize: 3.888 MiB