Package: selectKSigs Version: 1.19.0 Command: rm -rf selectKSigs.buildbin-libdir && mkdir selectKSigs.buildbin-libdir && /Users/biocbuild/BBS/utils/build-universal.sh selectKSigs_1.19.0.tar.gz /Library/Frameworks/R.framework/Resources/bin/R selectKSigs.buildbin-libdir StartedAt: 2025-02-09 22:30:35 -0500 (Sun, 09 Feb 2025) EndedAt: 2025-02-09 22:30:41 -0500 (Sun, 09 Feb 2025) EllapsedTime: 6.1 seconds RetCode: 0 Status: OK PackageFile: selectKSigs_1.19.0.tgz PackageFileSize: 490 KiB