Package: selectKSigs Version: 1.19.0 Command: /Library/Frameworks/R.framework/Resources/bin/R CMD build --keep-empty-dirs --no-resave-data selectKSigs StartedAt: 2025-02-12 18:17:41 -0500 (Wed, 12 Feb 2025) EndedAt: 2025-02-12 18:19:36 -0500 (Wed, 12 Feb 2025) EllapsedTime: 115.4 seconds RetCode: 0 Status: OK PackageFile: selectKSigs_1.19.0.tar.gz PackageFileSize: 399.6 KiB