Package: selectKSigs Version: 1.19.0 Command: /Library/Frameworks/R.framework/Resources/bin/R CMD INSTALL selectKSigs StartedAt: 2025-02-09 15:23:24 -0500 (Sun, 09 Feb 2025) EndedAt: 2025-02-09 15:23:41 -0500 (Sun, 09 Feb 2025) EllapsedTime: 17.0 seconds RetCode: 0 Status: OK