Package: selectKSigs Version: 1.19.0 Command: /home/biocbuild/bbs-3.21-bioc/R/bin/R CMD build --keep-empty-dirs --no-resave-data selectKSigs StartedAt: 2025-02-09 19:14:04 -0500 (Sun, 09 Feb 2025) EndedAt: 2025-02-09 19:15:34 -0500 (Sun, 09 Feb 2025) EllapsedTime: 90.1 seconds RetCode: 0 Status: OK PackageFile: selectKSigs_1.19.0.tar.gz PackageFileSize: 391.2 KiB