Package: selectKSigs Version: 1.19.0 Command: chmod a+r selectKSigs -R && E:\biocbuild\bbs-3.21-bioc\R\bin\R.exe CMD build --keep-empty-dirs --no-resave-data selectKSigs StartedAt: 2025-02-09 21:35:34 -0500 (Sun, 09 Feb 2025) EndedAt: 2025-02-09 21:37:40 -0500 (Sun, 09 Feb 2025) EllapsedTime: 125.7 seconds RetCode: 0 Status: OK PackageFile: selectKSigs_1.19.0.tar.gz PackageFileSize: 329.2 KiB